BEGIN:VCALENDAR
VERSION:2.0
PRODID:-//NEIN zur Organentnahme ohne Zustimmung - ECPv5.14.2.1//NONSGML v1.0//EN
CALSCALE:GREGORIAN
METHOD:PUBLISH
X-WR-CALNAME:NEIN zur Organentnahme ohne Zustimmung
X-ORIGINAL-URL:https://organspende-nur-mit-zustimmung.ch
X-WR-CALDESC:Veranstaltungen für NEIN zur Organentnahme ohne Zustimmung
REFRESH-INTERVAL;VALUE=DURATION:PT1H
X-Robots-Tag:noindex
X-PUBLISHED-TTL:PT1H
BEGIN:VTIMEZONE
TZID:UTC
BEGIN:STANDARD
TZOFFSETFROM:+0000
TZOFFSETTO:+0000
TZNAME:UTC
DTSTART:20220101T000000
END:STANDARD
END:VTIMEZONE
BEGIN:VEVENT
DTSTART;VALUE=DATE:20220515
DTEND;VALUE=DATE:20220516
DTSTAMP:20220515T050506
CREATED:20220218T191823Z
LAST-MODIFIED:20220218T191823Z
UID:5666-1652572800-1652659199@organspende-nur-mit-zustimmung.ch
SUMMARY:Eidgenössische Volksabstimmung
DESCRIPTION:Die Widerspruchsregelung bei der Organentnahme (Änderung vom 1. Oktober 2021 des Bundesgesetzes über die Transplantation von Organen\, Geweben und Zellen (Transplantationsgesetz)) gelangt am 15. Mai 2022 zur Abstimmung.
URL:https://organspende-nur-mit-zustimmung.ch/event/eidgenoessische-volksabstimmung/
LOCATION:Schweiz\, Schweiz
CATEGORIES:Allgemein
ATTACH;FMTTYPE=image/jpeg:https://organspende-nur-mit-zustimmung.ch/wp-content/uploads/2022/02/Abstimmungsurne.jpg
END:VEVENT
END:VCALENDAR